BEGIN:VCALENDAR
VERSION:2.0
PRODID:-//eventon.com NONSGML v1.0//EN
CALSCALE:GREGORIAN
METHOD:PUBLISH
BEGIN:VEVENT
UID:69e73b9a5df87
DTSTAMP:20260421T085554Z
DTSTART:20260320T102900Z
DTEND:20260322T222900Z
LOCATION:CENTRO ALVEAR
SUMMARY:7° EXPO DE AUTOS Y MOTOS CLASICAS 2026
DESCRIPTION:\nhttps://descubrialvear.camaradealvear.org.ar/events/7-expo-de
 -autos-y-motos-clasicas-2026/
URL:https://descubrialvear.camaradealvear.org.ar/events/7-expo-de-autos-y-motos-clasicas-2026/
END:VEVENT
END:VCALENDAR